BEGIN:VCALENDAR
VERSION:2.0
PRODID:-//Fall Creek - ECPv6.15.16//NONSGML v1.0//EN
CALSCALE:GREGORIAN
METHOD:PUBLISH
X-WR-CALNAME:Fall Creek
X-ORIGINAL-URL:https://fallcreekhouston.com
X-WR-CALDESC:Events for Fall Creek
REFRESH-INTERVAL;VALUE=DURATION:PT1H
X-Robots-Tag:noindex
X-PUBLISHED-TTL:PT1H
BEGIN:VTIMEZONE
TZID:America/Chicago
BEGIN:DAYLIGHT
TZOFFSETFROM:-0600
TZOFFSETTO:-0500
TZNAME:CDT
DTSTART:20220313T080000
END:DAYLIGHT
BEGIN:STANDARD
TZOFFSETFROM:-0500
TZOFFSETTO:-0600
TZNAME:CST
DTSTART:20221106T070000
END:STANDARD
BEGIN:DAYLIGHT
TZOFFSETFROM:-0600
TZOFFSETTO:-0500
TZNAME:CDT
DTSTART:20230312T080000
END:DAYLIGHT
BEGIN:STANDARD
TZOFFSETFROM:-0500
TZOFFSETTO:-0600
TZNAME:CST
DTSTART:20231105T070000
END:STANDARD
BEGIN:DAYLIGHT
TZOFFSETFROM:-0600
TZOFFSETTO:-0500
TZNAME:CDT
DTSTART:20240310T080000
END:DAYLIGHT
BEGIN:STANDARD
TZOFFSETFROM:-0500
TZOFFSETTO:-0600
TZNAME:CST
DTSTART:20241103T070000
END:STANDARD
END:VTIMEZONE
BEGIN:VEVENT
DTSTART;TZID=America/Chicago:20230219T090000
DTEND;TZID=America/Chicago:20230219T130000
DTSTAMP:20260420T071912
CREATED:20230117T042855Z
LAST-MODIFIED:20230117T043045Z
UID:10001036-1676797200-1676811600@fallcreekhouston.com
SUMMARY:Fall Creek Farmers’ Market
DESCRIPTION:https://fallcreekhouston.com/wp-content/uploads/2020/02/My-project-10.MOV.mp4\nFall Creek Farmers’ Market will open every Sunday\, from 9 am -1 pm weekly\, rain or shine. \nLocation: Fall Creek Clubhouse Parking Lot\n7930 Fall Creek Bend Drive Humble\, TX 77396. \nPlease like\, follow and share our Facebook page @buylocalfarmersmarket & Instagram Page @fallcreekfarmersmarket\, for updates and vendor spotlights! \nSee you at the market! 
URL:https://fallcreekhouston.com/event/8063-2/2023-02-19/
LOCATION:The Clubhouse at Fall Creek\, 7930 Fall Creek Bend Drive\, Humble\, TX\, 77396\, United States
ATTACH;FMTTYPE=image/png:https://fallcreekhouston.com/wp-content/uploads/2022/04/Fall-Creek-Farmers-Market.png
END:VEVENT
BEGIN:VEVENT
DTSTART;TZID=America/Chicago:20230220T180000
DTEND;TZID=America/Chicago:20230220T200000
DTSTAMP:20260420T071912
CREATED:20190830T202634Z
LAST-MODIFIED:20191112T183500Z
UID:10000704-1676916000-1676923200@fallcreekhouston.com
SUMMARY:Tennis Committee Meeting
DESCRIPTION:
URL:https://fallcreekhouston.com/event/tennis-committee-meeting-2/2023-02-20/
LOCATION:TX
ATTACH;FMTTYPE=:
END:VEVENT
BEGIN:VEVENT
DTSTART;TZID=America/Chicago:20230226T090000
DTEND;TZID=America/Chicago:20230226T130000
DTSTAMP:20260420T071912
CREATED:20230117T042855Z
LAST-MODIFIED:20230117T043045Z
UID:10001037-1677402000-1677416400@fallcreekhouston.com
SUMMARY:Fall Creek Farmers’ Market
DESCRIPTION:https://fallcreekhouston.com/wp-content/uploads/2020/02/My-project-10.MOV.mp4\nFall Creek Farmers’ Market will open every Sunday\, from 9 am -1 pm weekly\, rain or shine. \nLocation: Fall Creek Clubhouse Parking Lot\n7930 Fall Creek Bend Drive Humble\, TX 77396. \nPlease like\, follow and share our Facebook page @buylocalfarmersmarket & Instagram Page @fallcreekfarmersmarket\, for updates and vendor spotlights! \nSee you at the market! 
URL:https://fallcreekhouston.com/event/8063-2/2023-02-26/
LOCATION:The Clubhouse at Fall Creek\, 7930 Fall Creek Bend Drive\, Humble\, TX\, 77396\, United States
ATTACH;FMTTYPE=image/png:https://fallcreekhouston.com/wp-content/uploads/2022/04/Fall-Creek-Farmers-Market.png
END:VEVENT
BEGIN:VEVENT
DTSTART;TZID=America/Chicago:20230305T090000
DTEND;TZID=America/Chicago:20230305T130000
DTSTAMP:20260420T071912
CREATED:20230117T042855Z
LAST-MODIFIED:20230117T043045Z
UID:10001038-1678006800-1678021200@fallcreekhouston.com
SUMMARY:Fall Creek Farmers’ Market
DESCRIPTION:https://fallcreekhouston.com/wp-content/uploads/2020/02/My-project-10.MOV.mp4\nFall Creek Farmers’ Market will open every Sunday\, from 9 am -1 pm weekly\, rain or shine. \nLocation: Fall Creek Clubhouse Parking Lot\n7930 Fall Creek Bend Drive Humble\, TX 77396. \nPlease like\, follow and share our Facebook page @buylocalfarmersmarket & Instagram Page @fallcreekfarmersmarket\, for updates and vendor spotlights! \nSee you at the market! 
URL:https://fallcreekhouston.com/event/8063-2/2023-03-05/
LOCATION:The Clubhouse at Fall Creek\, 7930 Fall Creek Bend Drive\, Humble\, TX\, 77396\, United States
ATTACH;FMTTYPE=image/png:https://fallcreekhouston.com/wp-content/uploads/2022/04/Fall-Creek-Farmers-Market.png
END:VEVENT
BEGIN:VEVENT
DTSTART;TZID=America/Chicago:20230312T090000
DTEND;TZID=America/Chicago:20230312T130000
DTSTAMP:20260420T071912
CREATED:20230117T042855Z
LAST-MODIFIED:20230117T043045Z
UID:10001039-1678611600-1678626000@fallcreekhouston.com
SUMMARY:Fall Creek Farmers’ Market
DESCRIPTION:https://fallcreekhouston.com/wp-content/uploads/2020/02/My-project-10.MOV.mp4\nFall Creek Farmers’ Market will open every Sunday\, from 9 am -1 pm weekly\, rain or shine. \nLocation: Fall Creek Clubhouse Parking Lot\n7930 Fall Creek Bend Drive Humble\, TX 77396. \nPlease like\, follow and share our Facebook page @buylocalfarmersmarket & Instagram Page @fallcreekfarmersmarket\, for updates and vendor spotlights! \nSee you at the market! 
URL:https://fallcreekhouston.com/event/8063-2/2023-03-12/
LOCATION:The Clubhouse at Fall Creek\, 7930 Fall Creek Bend Drive\, Humble\, TX\, 77396\, United States
ATTACH;FMTTYPE=image/png:https://fallcreekhouston.com/wp-content/uploads/2022/04/Fall-Creek-Farmers-Market.png
END:VEVENT
BEGIN:VEVENT
DTSTART;TZID=America/Chicago:20230314T183000
DTEND;TZID=America/Chicago:20230314T210000
DTSTAMP:20260420T071912
CREATED:20230117T231356Z
LAST-MODIFIED:20230117T231418Z
UID:10001155-1678818600-1678827600@fallcreekhouston.com
SUMMARY:Board of Directors Meeting
DESCRIPTION:Board of Directors Meeting\n\n6:30 pm – 9:00 pm\n\n@ Fall Creek Clubhouse Conference Room
URL:https://fallcreekhouston.com/event/board-of-directors-meeting-8-2020-01-14-4/2023-03-14/
LOCATION:The Clubhouse at Fall Creek\, 7930 Fall Creek Bend Drive\, Humble\, TX\, 77396\, United States
ATTACH;FMTTYPE=image/jpeg:https://fallcreekhouston.com/wp-content/uploads/2021/02/unnamed-3-scaled.jpg
END:VEVENT
BEGIN:VEVENT
DTSTART;TZID=America/Chicago:20230315T183000
DTEND;TZID=America/Chicago:20230315T193000
DTSTAMP:20260420T071912
CREATED:20230307T172331Z
LAST-MODIFIED:20230307T172331Z
UID:10001177-1678905000-1678908600@fallcreekhouston.com
SUMMARY:Landscape Committee Meeting
DESCRIPTION:The Landscape Committee invites residents to its next zoom meeting on Wednesday\, March 15th at 6:30 PM.  Please contact the committee at Landscape@fallcreekhouston.com for the link to join the meeting.  No prior plant knowledge is required to be a member of this committee which deals with the beautification of the HOA property in Fall Creek.
URL:https://fallcreekhouston.com/event/landscape-committee-meeting-16/
LOCATION:TX
CATEGORIES:Featured
ATTACH;FMTTYPE=image/jpeg:https://fallcreekhouston.com/wp-content/uploads/2021/10/Fall-Creek-photo-1-scaled.jpg
END:VEVENT
BEGIN:VEVENT
DTSTART;TZID=America/Chicago:20230319T090000
DTEND;TZID=America/Chicago:20230319T130000
DTSTAMP:20260420T071912
CREATED:20230117T042855Z
LAST-MODIFIED:20230117T043045Z
UID:10001040-1679216400-1679230800@fallcreekhouston.com
SUMMARY:Fall Creek Farmers’ Market
DESCRIPTION:https://fallcreekhouston.com/wp-content/uploads/2020/02/My-project-10.MOV.mp4\nFall Creek Farmers’ Market will open every Sunday\, from 9 am -1 pm weekly\, rain or shine. \nLocation: Fall Creek Clubhouse Parking Lot\n7930 Fall Creek Bend Drive Humble\, TX 77396. \nPlease like\, follow and share our Facebook page @buylocalfarmersmarket & Instagram Page @fallcreekfarmersmarket\, for updates and vendor spotlights! \nSee you at the market! 
URL:https://fallcreekhouston.com/event/8063-2/2023-03-19/
LOCATION:The Clubhouse at Fall Creek\, 7930 Fall Creek Bend Drive\, Humble\, TX\, 77396\, United States
ATTACH;FMTTYPE=image/png:https://fallcreekhouston.com/wp-content/uploads/2022/04/Fall-Creek-Farmers-Market.png
END:VEVENT
BEGIN:VEVENT
DTSTART;TZID=America/Chicago:20230320T180000
DTEND;TZID=America/Chicago:20230320T200000
DTSTAMP:20260420T071912
CREATED:20190830T202634Z
LAST-MODIFIED:20191112T183500Z
UID:10000705-1679335200-1679342400@fallcreekhouston.com
SUMMARY:Tennis Committee Meeting
DESCRIPTION:
URL:https://fallcreekhouston.com/event/tennis-committee-meeting-2/2023-03-20/
LOCATION:TX
ATTACH;FMTTYPE=:
END:VEVENT
BEGIN:VEVENT
DTSTART;TZID=America/Chicago:20230325T090000
DTEND;TZID=America/Chicago:20230325T120000
DTSTAMP:20260420T071912
CREATED:20230309T170155Z
LAST-MODIFIED:20230309T170155Z
UID:10001178-1679734800-1679745600@fallcreekhouston.com
SUMMARY:Fall Creek Howdy Hop
DESCRIPTION:Our next community event is just around the corner! The HOWDY HOP is our family spring event with a rodeo twist! \nOn Saturday\, March 25th from 9:00am to 12:00pm grab your partner and dosey doe on over to the Park behind the Fall Creek Clubhouse for a grand ole’ time! \nSpringtime staples like the Easter bunny and petting zoo will be on-site for all the family photos as well as a HOWDY photo-op area. We will also have a mechanical bull\, western themed moon bounces\, a juggling rodeo clown\, face painting\, and fair food options for a mini rodeo experience closer to home! And don’t forget to pack your easter basket for the kiddo candy drop zone!
URL:https://fallcreekhouston.com/event/fall-creek-howdy-hop/
LOCATION:The Clubhouse at Fall Creek\, 7930 Fall Creek Bend Drive\, Humble\, TX\, 77396\, United States
CATEGORIES:Featured
ATTACH;FMTTYPE=image/jpeg:https://fallcreekhouston.com/wp-content/uploads/2023/03/Howdy-Hop.jpg
END:VEVENT
BEGIN:VEVENT
DTSTART;TZID=America/Chicago:20230326T090000
DTEND;TZID=America/Chicago:20230326T130000
DTSTAMP:20260420T071912
CREATED:20230117T042855Z
LAST-MODIFIED:20230117T043045Z
UID:10001041-1679821200-1679835600@fallcreekhouston.com
SUMMARY:Fall Creek Farmers’ Market
DESCRIPTION:https://fallcreekhouston.com/wp-content/uploads/2020/02/My-project-10.MOV.mp4\nFall Creek Farmers’ Market will open every Sunday\, from 9 am -1 pm weekly\, rain or shine. \nLocation: Fall Creek Clubhouse Parking Lot\n7930 Fall Creek Bend Drive Humble\, TX 77396. \nPlease like\, follow and share our Facebook page @buylocalfarmersmarket & Instagram Page @fallcreekfarmersmarket\, for updates and vendor spotlights! \nSee you at the market! 
URL:https://fallcreekhouston.com/event/8063-2/2023-03-26/
LOCATION:The Clubhouse at Fall Creek\, 7930 Fall Creek Bend Drive\, Humble\, TX\, 77396\, United States
ATTACH;FMTTYPE=image/png:https://fallcreekhouston.com/wp-content/uploads/2022/04/Fall-Creek-Farmers-Market.png
END:VEVENT
BEGIN:VEVENT
DTSTART;TZID=America/Chicago:20230402T090000
DTEND;TZID=America/Chicago:20230402T130000
DTSTAMP:20260420T071912
CREATED:20230117T042855Z
LAST-MODIFIED:20230117T043045Z
UID:10001042-1680426000-1680440400@fallcreekhouston.com
SUMMARY:Fall Creek Farmers’ Market
DESCRIPTION:https://fallcreekhouston.com/wp-content/uploads/2020/02/My-project-10.MOV.mp4\nFall Creek Farmers’ Market will open every Sunday\, from 9 am -1 pm weekly\, rain or shine. \nLocation: Fall Creek Clubhouse Parking Lot\n7930 Fall Creek Bend Drive Humble\, TX 77396. \nPlease like\, follow and share our Facebook page @buylocalfarmersmarket & Instagram Page @fallcreekfarmersmarket\, for updates and vendor spotlights! \nSee you at the market! 
URL:https://fallcreekhouston.com/event/8063-2/2023-04-02/
LOCATION:The Clubhouse at Fall Creek\, 7930 Fall Creek Bend Drive\, Humble\, TX\, 77396\, United States
ATTACH;FMTTYPE=image/png:https://fallcreekhouston.com/wp-content/uploads/2022/04/Fall-Creek-Farmers-Market.png
END:VEVENT
BEGIN:VEVENT
DTSTART;VALUE=DATE:20230407
DTEND;VALUE=DATE:20230408
DTSTAMP:20260420T071912
CREATED:20230327T180822Z
LAST-MODIFIED:20230327T180834Z
UID:10001180-1680825600-1680911999@fallcreekhouston.com
SUMMARY:Clubhouse Closed
DESCRIPTION:The Clubhouse will be closed Friday\, April 7th in observance of Good Friday.
URL:https://fallcreekhouston.com/event/clubhouse-closed-16/
LOCATION:The Clubhouse at Fall Creek\, 7930 Fall Creek Bend Drive\, Humble\, TX\, 77396\, United States
CATEGORIES:Featured
ATTACH;FMTTYPE=image/jpeg:https://fallcreekhouston.com/wp-content/uploads/2019/08/aerial-clubhouse.jpg
END:VEVENT
BEGIN:VEVENT
DTSTART;TZID=America/Chicago:20230409T090000
DTEND;TZID=America/Chicago:20230409T130000
DTSTAMP:20260420T071912
CREATED:20230117T042855Z
LAST-MODIFIED:20230117T043045Z
UID:10001043-1681030800-1681045200@fallcreekhouston.com
SUMMARY:Fall Creek Farmers’ Market
DESCRIPTION:https://fallcreekhouston.com/wp-content/uploads/2020/02/My-project-10.MOV.mp4\nFall Creek Farmers’ Market will open every Sunday\, from 9 am -1 pm weekly\, rain or shine. \nLocation: Fall Creek Clubhouse Parking Lot\n7930 Fall Creek Bend Drive Humble\, TX 77396. \nPlease like\, follow and share our Facebook page @buylocalfarmersmarket & Instagram Page @fallcreekfarmersmarket\, for updates and vendor spotlights! \nSee you at the market! 
URL:https://fallcreekhouston.com/event/8063-2/2023-04-09/
LOCATION:The Clubhouse at Fall Creek\, 7930 Fall Creek Bend Drive\, Humble\, TX\, 77396\, United States
ATTACH;FMTTYPE=image/png:https://fallcreekhouston.com/wp-content/uploads/2022/04/Fall-Creek-Farmers-Market.png
END:VEVENT
BEGIN:VEVENT
DTSTART;TZID=America/Chicago:20230411T183000
DTEND;TZID=America/Chicago:20230411T210000
DTSTAMP:20260420T071912
CREATED:20230117T231356Z
LAST-MODIFIED:20230117T231418Z
UID:10001156-1681237800-1681246800@fallcreekhouston.com
SUMMARY:Board of Directors Meeting
DESCRIPTION:Board of Directors Meeting\n\n6:30 pm – 9:00 pm\n\n@ Fall Creek Clubhouse Conference Room
URL:https://fallcreekhouston.com/event/board-of-directors-meeting-8-2020-01-14-4/2023-04-11/
LOCATION:The Clubhouse at Fall Creek\, 7930 Fall Creek Bend Drive\, Humble\, TX\, 77396\, United States
ATTACH;FMTTYPE=image/jpeg:https://fallcreekhouston.com/wp-content/uploads/2021/02/unnamed-3-scaled.jpg
END:VEVENT
BEGIN:VEVENT
DTSTART;VALUE=DATE:20230415
DTEND;VALUE=DATE:20230416
DTSTAMP:20260420T071912
CREATED:20230313T212548Z
LAST-MODIFIED:20230313T212548Z
UID:10001179-1681516800-1681603199@fallcreekhouston.com
SUMMARY:ACE 2nd Annual Bluebonnet Bash
DESCRIPTION:Autumn Creek Elementary will be holding their 2nd Annual Bluebonnet Bash on April 15th. For more information or to get involved\, please visit https://www.autumncreekpto.org/upcoming-events/bluebonnet-bash-1
URL:https://fallcreekhouston.com/event/ace-2nd-annual-bluebonnet-bash/
LOCATION:TX
CATEGORIES:Featured
ATTACH;FMTTYPE=image/jpeg:https://fallcreekhouston.com/wp-content/uploads/2023/03/ACE_Blue-bonnet-Bash-2023_Save-the-date.jpeg
END:VEVENT
BEGIN:VEVENT
DTSTART;TZID=America/Chicago:20230416T090000
DTEND;TZID=America/Chicago:20230416T130000
DTSTAMP:20260420T071912
CREATED:20230117T042855Z
LAST-MODIFIED:20230117T043045Z
UID:10001044-1681635600-1681650000@fallcreekhouston.com
SUMMARY:Fall Creek Farmers’ Market
DESCRIPTION:https://fallcreekhouston.com/wp-content/uploads/2020/02/My-project-10.MOV.mp4\nFall Creek Farmers’ Market will open every Sunday\, from 9 am -1 pm weekly\, rain or shine. \nLocation: Fall Creek Clubhouse Parking Lot\n7930 Fall Creek Bend Drive Humble\, TX 77396. \nPlease like\, follow and share our Facebook page @buylocalfarmersmarket & Instagram Page @fallcreekfarmersmarket\, for updates and vendor spotlights! \nSee you at the market! 
URL:https://fallcreekhouston.com/event/8063-2/2023-04-16/
LOCATION:The Clubhouse at Fall Creek\, 7930 Fall Creek Bend Drive\, Humble\, TX\, 77396\, United States
ATTACH;FMTTYPE=image/png:https://fallcreekhouston.com/wp-content/uploads/2022/04/Fall-Creek-Farmers-Market.png
END:VEVENT
BEGIN:VEVENT
DTSTART;TZID=America/Chicago:20230417T180000
DTEND;TZID=America/Chicago:20230417T200000
DTSTAMP:20260420T071912
CREATED:20190830T202634Z
LAST-MODIFIED:20191112T183500Z
UID:10000706-1681754400-1681761600@fallcreekhouston.com
SUMMARY:Tennis Committee Meeting
DESCRIPTION:
URL:https://fallcreekhouston.com/event/tennis-committee-meeting-2/2023-04-17/
LOCATION:TX
ATTACH;FMTTYPE=:
END:VEVENT
BEGIN:VEVENT
DTSTART;TZID=America/Chicago:20230423T090000
DTEND;TZID=America/Chicago:20230423T130000
DTSTAMP:20260420T071912
CREATED:20230117T042855Z
LAST-MODIFIED:20230117T043045Z
UID:10001045-1682240400-1682254800@fallcreekhouston.com
SUMMARY:Fall Creek Farmers’ Market
DESCRIPTION:https://fallcreekhouston.com/wp-content/uploads/2020/02/My-project-10.MOV.mp4\nFall Creek Farmers’ Market will open every Sunday\, from 9 am -1 pm weekly\, rain or shine. \nLocation: Fall Creek Clubhouse Parking Lot\n7930 Fall Creek Bend Drive Humble\, TX 77396. \nPlease like\, follow and share our Facebook page @buylocalfarmersmarket & Instagram Page @fallcreekfarmersmarket\, for updates and vendor spotlights! \nSee you at the market! 
URL:https://fallcreekhouston.com/event/8063-2/2023-04-23/
LOCATION:The Clubhouse at Fall Creek\, 7930 Fall Creek Bend Drive\, Humble\, TX\, 77396\, United States
ATTACH;FMTTYPE=image/png:https://fallcreekhouston.com/wp-content/uploads/2022/04/Fall-Creek-Farmers-Market.png
END:VEVENT
BEGIN:VEVENT
DTSTART;TZID=America/Chicago:20230429T070000
DTEND;TZID=America/Chicago:20230429T120000
DTSTAMP:20260420T071912
CREATED:20230227T215419Z
LAST-MODIFIED:20230302T181604Z
UID:10001176-1682751600-1682769600@fallcreekhouston.com
SUMMARY:Fall Creek Community Spring Garage Sale
DESCRIPTION:Date: Saturday\, April 29th\n\n\n\nTime: 7am – 12pm\n\n\n\nNo permit required.  The sale will be held throughout the community. * All you have to do is gather your unwanted items and be ready to sell! \n\n\n\nDirectional signs are permitted on this day but MUST be removed that same afternoon. \n\n\n\n*Gated communities will be exempt from this sale but can participate at the Clubhouse parking lot.*
URL:https://fallcreekhouston.com/event/fall-creek-community-spring-garage-sale-3/
LOCATION:TX
CATEGORIES:Featured
ATTACH;FMTTYPE=image/jpeg:https://fallcreekhouston.com/wp-content/uploads/2023/02/Spring-Garage-Sale-2023-1.jpg
END:VEVENT
BEGIN:VEVENT
DTSTART;TZID=America/Chicago:20230430T090000
DTEND;TZID=America/Chicago:20230430T130000
DTSTAMP:20260420T071912
CREATED:20230117T042855Z
LAST-MODIFIED:20230117T043045Z
UID:10001046-1682845200-1682859600@fallcreekhouston.com
SUMMARY:Fall Creek Farmers’ Market
DESCRIPTION:https://fallcreekhouston.com/wp-content/uploads/2020/02/My-project-10.MOV.mp4 \nFall Creek Farmers’ Market will open every Sunday\, from 9 am -1 pm weekly\, rain or shine. \nLocation: Fall Creek Clubhouse Parking Lot\n7930 Fall Creek Bend Drive Humble\, TX 77396. \nPlease like\, follow and share our Facebook page @buylocalfarmersmarket & Instagram Page @fallcreekfarmersmarket\, for updates and vendor spotlights! \nSee you at the market! 
URL:https://fallcreekhouston.com/event/8063-2/2023-04-30/
LOCATION:The Clubhouse at Fall Creek\, 7930 Fall Creek Bend Drive\, Humble\, TX\, 77396\, United States
ATTACH;FMTTYPE=image/png:https://fallcreekhouston.com/wp-content/uploads/2022/04/Fall-Creek-Farmers-Market.png
END:VEVENT
BEGIN:VEVENT
DTSTART;TZID=America/Chicago:20230505T190000
DTEND;TZID=America/Chicago:20230505T220000
DTSTAMP:20260420T071912
CREATED:20230428T193256Z
LAST-MODIFIED:20230428T193257Z
UID:10001181-1683313200-1683324000@fallcreekhouston.com
SUMMARY:Music in May
DESCRIPTION:Music in May \nEvery Friday in May \n7:00pm – 10:00pm \nFall Creek Sports Complex \n\nGuess what… It’s gonna be MAY! Come out to The Fall Creek Sports Complex every Friday evening in May and enjoy an outdoor concert by a great local band. Bring your lawn chairs\, blankets and dancing shoes to party with your family and neighbors under the stars. THREE fabulous food trucks are scheduled each week with a variety of offerings for the whole family. Don’t forget cash or card to purchase food items and support local businesses. See you there each Friday!
URL:https://fallcreekhouston.com/event/music-in-may-8/2023-05-05/
LOCATION:Sports Complex
CATEGORIES:Featured
ATTACH;FMTTYPE=image/png:https://fallcreekhouston.com/wp-content/uploads/2023/04/FC-Music-In-May-2023-Yard-Signs.png
END:VEVENT
BEGIN:VEVENT
DTSTART;TZID=America/Chicago:20230509T183000
DTEND;TZID=America/Chicago:20230509T210000
DTSTAMP:20260420T071912
CREATED:20230117T231356Z
LAST-MODIFIED:20230117T231418Z
UID:10001157-1683657000-1683666000@fallcreekhouston.com
SUMMARY:Board of Directors Meeting
DESCRIPTION:Board of Directors Meeting\n\n6:30 pm – 9:00 pm\n\n@ Fall Creek Clubhouse Conference Room
URL:https://fallcreekhouston.com/event/board-of-directors-meeting-8-2020-01-14-4/2023-05-09/
LOCATION:The Clubhouse at Fall Creek\, 7930 Fall Creek Bend Drive\, Humble\, TX\, 77396\, United States
ATTACH;FMTTYPE=image/jpeg:https://fallcreekhouston.com/wp-content/uploads/2021/02/unnamed-3-scaled.jpg
END:VEVENT
BEGIN:VEVENT
DTSTART;TZID=America/Chicago:20230512T190000
DTEND;TZID=America/Chicago:20230512T220000
DTSTAMP:20260420T071912
CREATED:20230428T193256Z
LAST-MODIFIED:20230428T193257Z
UID:10001182-1683918000-1683928800@fallcreekhouston.com
SUMMARY:Music in May
DESCRIPTION:Music in May \nEvery Friday in May \n7:00pm – 10:00pm \nFall Creek Sports Complex \n\nGuess what… It’s gonna be MAY! Come out to The Fall Creek Sports Complex every Friday evening in May and enjoy an outdoor concert by a great local band. Bring your lawn chairs\, blankets and dancing shoes to party with your family and neighbors under the stars. THREE fabulous food trucks are scheduled each week with a variety of offerings for the whole family. Don’t forget cash or card to purchase food items and support local businesses. See you there each Friday!
URL:https://fallcreekhouston.com/event/music-in-may-8/2023-05-12/
LOCATION:Sports Complex
CATEGORIES:Featured
ATTACH;FMTTYPE=image/png:https://fallcreekhouston.com/wp-content/uploads/2023/04/FC-Music-In-May-2023-Yard-Signs.png
END:VEVENT
BEGIN:VEVENT
DTSTART;TZID=America/Chicago:20230515T180000
DTEND;TZID=America/Chicago:20230515T200000
DTSTAMP:20260420T071912
CREATED:20190830T202634Z
LAST-MODIFIED:20191112T183500Z
UID:10000707-1684173600-1684180800@fallcreekhouston.com
SUMMARY:Tennis Committee Meeting
DESCRIPTION:
URL:https://fallcreekhouston.com/event/tennis-committee-meeting-2/2023-05-15/
LOCATION:TX
ATTACH;FMTTYPE=:
END:VEVENT
BEGIN:VEVENT
DTSTART;TZID=America/Chicago:20230519T190000
DTEND;TZID=America/Chicago:20230519T220000
DTSTAMP:20260420T071912
CREATED:20230428T193256Z
LAST-MODIFIED:20230428T193257Z
UID:10001183-1684522800-1684533600@fallcreekhouston.com
SUMMARY:Music in May
DESCRIPTION:Music in May \nEvery Friday in May \n7:00pm – 10:00pm \nFall Creek Sports Complex \n\nGuess what… It’s gonna be MAY! Come out to The Fall Creek Sports Complex every Friday evening in May and enjoy an outdoor concert by a great local band. Bring your lawn chairs\, blankets and dancing shoes to party with your family and neighbors under the stars. THREE fabulous food trucks are scheduled each week with a variety of offerings for the whole family. Don’t forget cash or card to purchase food items and support local businesses. See you there each Friday!
URL:https://fallcreekhouston.com/event/music-in-may-8/2023-05-19/
LOCATION:Sports Complex
CATEGORIES:Featured
ATTACH;FMTTYPE=image/png:https://fallcreekhouston.com/wp-content/uploads/2023/04/FC-Music-In-May-2023-Yard-Signs.png
END:VEVENT
BEGIN:VEVENT
DTSTART;TZID=America/Chicago:20230526T190000
DTEND;TZID=America/Chicago:20230526T220000
DTSTAMP:20260420T071912
CREATED:20230428T193256Z
LAST-MODIFIED:20230428T193257Z
UID:10001184-1685127600-1685138400@fallcreekhouston.com
SUMMARY:Music in May
DESCRIPTION:Music in May \nEvery Friday in May \n7:00pm – 10:00pm \nFall Creek Sports Complex \n\nGuess what… It’s gonna be MAY! Come out to The Fall Creek Sports Complex every Friday evening in May and enjoy an outdoor concert by a great local band. Bring your lawn chairs\, blankets and dancing shoes to party with your family and neighbors under the stars. THREE fabulous food trucks are scheduled each week with a variety of offerings for the whole family. Don’t forget cash or card to purchase food items and support local businesses. See you there each Friday!
URL:https://fallcreekhouston.com/event/music-in-may-8/2023-05-26/
LOCATION:Sports Complex
CATEGORIES:Featured
ATTACH;FMTTYPE=image/png:https://fallcreekhouston.com/wp-content/uploads/2023/04/FC-Music-In-May-2023-Yard-Signs.png
END:VEVENT
BEGIN:VEVENT
DTSTART;VALUE=DATE:20230529
DTEND;VALUE=DATE:20230530
DTSTAMP:20260420T071912
CREATED:20230501T163647Z
LAST-MODIFIED:20230501T163647Z
UID:10001186-1685318400-1685404799@fallcreekhouston.com
SUMMARY:Clubhouse Closed
DESCRIPTION:The Clubhouse will be closed Monday\, May 29th in observance of the Memorial Day Holiday
URL:https://fallcreekhouston.com/event/clubhouse-closed-18/
LOCATION:The Clubhouse at Fall Creek\, 7930 Fall Creek Bend Drive\, Humble\, TX\, 77396\, United States
ATTACH;FMTTYPE=image/jpeg:https://fallcreekhouston.com/wp-content/uploads/2019/08/aerial-clubhouse.jpg
END:VEVENT
BEGIN:VEVENT
DTSTART;TZID=America/Chicago:20230613T183000
DTEND;TZID=America/Chicago:20230613T210000
DTSTAMP:20260420T071912
CREATED:20230117T231356Z
LAST-MODIFIED:20230117T231418Z
UID:10001158-1686681000-1686690000@fallcreekhouston.com
SUMMARY:Board of Directors Meeting
DESCRIPTION:Board of Directors Meeting\n\n6:30 pm – 9:00 pm\n\n@ Fall Creek Clubhouse Conference Room
URL:https://fallcreekhouston.com/event/board-of-directors-meeting-8-2020-01-14-4/2023-06-13/
LOCATION:The Clubhouse at Fall Creek\, 7930 Fall Creek Bend Drive\, Humble\, TX\, 77396\, United States
ATTACH;FMTTYPE=image/jpeg:https://fallcreekhouston.com/wp-content/uploads/2021/02/unnamed-3-scaled.jpg
END:VEVENT
BEGIN:VEVENT
DTSTART;TZID=America/Chicago:20230617T093000
DTEND;TZID=America/Chicago:20230617T140000
DTSTAMP:20260420T071912
CREATED:20230607T154405Z
LAST-MODIFIED:20230607T200616Z
UID:10001189-1686994200-1687010400@fallcreekhouston.com
SUMMARY:Blood Drive
DESCRIPTION:The Gulf Coast Regional Blood Center will have a donor coach at the Clubhouse parking lot\, 7930 Fall Creek Bend\, from 9:30 a.m. to 2:00 p.m. on Saturday\, June 17\, 2023. Blood drives save countless lives and your donation makes a difference. As a special thank you\, donors who give blood will receive a limited edition beach towel while supplies last (provided by Gulf Coast Regional Blood Center). \nAppointments are preferred. Schedule your appointment online HERE. \nThe event is hosted by the Theta Chi chapter of Omega Psi Phi\, a community service organization. \n  \n 
URL:https://fallcreekhouston.com/event/blood-drive-2/
LOCATION:The Clubhouse at Fall Creek\, 7930 Fall Creek Bend Drive\, Humble\, TX\, 77396\, United States
CATEGORIES:Featured
ATTACH;FMTTYPE=image/png:https://fallcreekhouston.com/wp-content/uploads/2023/06/blood-drive.png
END:VEVENT
END:VCALENDAR